BEGIN:VCALENDAR
PRODID:-//github.com/rianjs/ical.net//NONSGML ical.net 4.0//EN
VERSION:2.0
BEGIN:VEVENT
DESCRIPTION:Möte och utbildning för regionens hygienombud i södra länsdele
 n.
DTEND:20261203T153000
DTSTAMP:20260422T115541Z
DTSTART:20261203T133000
LOCATION:Lokal: Epidemin (hus 16\, plan 2) Länssjukhuset
SEQUENCE:0
SUMMARY:Hygienombudsträff Kalmar
UID:eef420a3-a50b-47f5-9e2f-71dbf0848d35
END:VEVENT
END:VCALENDAR
