BEGIN:VCALENDAR
PRODID:-//github.com/rianjs/ical.net//NONSGML ical.net 4.0//EN
VERSION:2.0
BEGIN:VEVENT
DESCRIPTION:Möte och utbildning för regionens hygienombud i södra länsdele
 n.
DTEND:20260507T153000
DTSTAMP:20260422T134755Z
DTSTART:20260507T133000
LOCATION:Epidemin (hus 16\, plan 2) Länssjukhuset
SEQUENCE:0
SUMMARY:Hygienombudsträff Kalmar
UID:d86dd408-bb6d-4c8d-a668-60d2a8e059cb
END:VEVENT
END:VCALENDAR
