BEGIN:VCALENDAR
PRODID:-//github.com/rianjs/ical.net//NONSGML ical.net 4.0//EN
VERSION:2.0
BEGIN:VEVENT
DESCRIPTION:Möte och utbildning för regionens hygienombud i södra länsdele
 n.
DTEND:20260930T153000
DTSTAMP:20260422T133410Z
DTSTART:20260930T133000
LOCATION:Lokal: Epidemin (hus 16\, plan 2) Länssjukhuset
SEQUENCE:0
SUMMARY:Hygienombudsträff Kalmar
UID:5816bfb7-61f3-4390-a172-eee75f0aa32e
END:VEVENT
END:VCALENDAR
