BEGIN:VCALENDAR
PRODID:-//github.com/rianjs/ical.net//NONSGML ical.net 4.0//EN
VERSION:2.0
BEGIN:VEVENT
DESCRIPTION:Disk- och spoldesinfektorer finns och används på de flesta vår
 denheter i Region Kalmar län. Utbildningen syftar till att ge kunskap om 
 rengöring\, desinfektion\, godshantering och instrumentvård så att vården
  kan bedrivas med en god hygienisk standard utifrån hälso- och sjukvårdsl
 agen.
DTEND:20261209T160000
DTSTAMP:20260422T115255Z
DTSTART:20261209T133000
LOCATION:Länssjukhuset Kalmar\, Kompetenscentrum hus 2 plan 9
SEQUENCE:0
SUMMARY:Disk- och spoldesinfektorer\, gods och instrumentvård Kalmar
UID:d27e02ba-eb79-4cbf-b67b-1946e55f70dd
END:VEVENT
END:VCALENDAR
