BEGIN:VCALENDAR
PRODID:-//github.com/rianjs/ical.net//NONSGML ical.net 4.0//EN
VERSION:2.0
BEGIN:VEVENT
DESCRIPTION:Disk- och spoldesinfektorer finns och används på de flesta vår
 denheter i Region Kalmar län. Utbildningen syftar till att ge kunskap om 
 rengöring\, desinfektion\, godshantering och instrumentvård så att vården
  kan bedrivas med en god hygienisk standard utifrån hälso- och sjukvårdsl
 agen.
DTEND:20260916T160000
DTSTAMP:20260422T115703Z
DTSTART:20260916T133000
LOCATION:Länssjukhuset Kalmar\, Kompetenscentrum hus 2 plan 9
SEQUENCE:0
SUMMARY:Disk- och spoldesinfektorer\, gods och instrumentvård Kalmar
UID:59ecba8e-8a97-4649-8abe-058df2ab8ec6
END:VEVENT
END:VCALENDAR
