BEGIN:VCALENDAR
PRODID:-//github.com/rianjs/ical.net//NONSGML ical.net 4.0//EN
VERSION:2.0
BEGIN:VEVENT
DESCRIPTION:Disk- och spoldesinfektorer finns och används på de flesta vår
 denheter i Region Kalmar län. Utbildningen syftar till att ge kunskap om 
 rengöring\, desinfektion\, godshantering och instrumentvård så att vården
  kan bedrivas med en god hygienisk standard utifrån hälso- och sjukvårdsl
 agen.
DTEND:20260511T160000
DTSTAMP:20260422T120245Z
DTSTART:20260511T133000
LOCATION:Kompetenscentrum hus 2 plan 9\, Länssjukhuset i Kalmar
SEQUENCE:0
SUMMARY:Disk- och spoldesinfektorer\, gods och instrumentvård Kalmar
UID:fe3367ce-e63f-4ce6-8e17-2994417ad834
END:VEVENT
END:VCALENDAR
