BEGIN:VCALENDAR
PRODID:-//github.com/rianjs/ical.net//NONSGML ical.net 4.0//EN
VERSION:2.0
BEGIN:VEVENT
DESCRIPTION:Webbinarium om den nya vårdriktlinjen för migrän som publicera
 des på Nationellt kliniskt kunskapsstöd 16 januari.
DTEND:20230127T140000
DTSTAMP:20260420T145906Z
DTSTART:20230127T130000
LOCATION:Digitalt
SEQUENCE:0
SUMMARY:Webbinarium om vårdriktlinje för migrän
UID:14949f05-9b61-4210-99b4-aca2dfe837be
END:VEVENT
END:VCALENDAR
