BEGIN:VCALENDAR
PRODID:-//github.com/rianjs/ical.net//NONSGML ical.net 4.0//EN
VERSION:2.0
BEGIN:VEVENT
DESCRIPTION:Träffpunkt allmänläkare är ett forum för allmänläkares profess
 ionella utveckling. Av allmänläkare för allmänläkare -med syfte att stärk
 a Region Kalmar läns primärvård med kvalitetsanalys kopplat till allmänlä
 kares kompetensutveckling.
DTEND:20230131T150000
DTSTAMP:20260422T102638Z
DTSTART:20230131T130000
LOCATION:Digitalt via zoom
SEQUENCE:0
SUMMARY:Träffpunkt allmänläkare
UID:b3735e00-97f8-4981-a2cb-abff4baf60c4
END:VEVENT
END:VCALENDAR
