BEGIN:VCALENDAR
PRODID:-//github.com/rianjs/ical.net//NONSGML ical.net 4.0//EN
VERSION:2.0
BEGIN:VEVENT
DESCRIPTION:På öppna forum får du veta mer om vad som är aktuellt i omstäl
 lningen\, både i länet och nationellt. Välkommen att få en djupare förstå
 else för hur nära vård kan se ut i olika verksamheter och för olika grupp
 er.
DTEND:20230919T113000
DTSTAMP:20260426T000259Z
DTSTART:20230919T110000
LOCATION:Digitalt
SEQUENCE:0
SUMMARY:Öppet forum: Hälsofrämjande\, förebyggande och tidiga insatser
UID:0ab93da6-7983-4511-b2da-df1e84c4428c
END:VEVENT
END:VCALENDAR
