BEGIN:VCALENDAR
PRODID:-//github.com/rianjs/ical.net//NONSGML ical.net 4.0//EN
VERSION:2.0
BEGIN:VEVENT
DESCRIPTION:Nya och gamla hygienombud hälsas varmt välkomna till ombudsträ
 ff.
DTEND:20240502T153000
DTSTAMP:20260424T174519Z
DTSTART:20240502T133000
LOCATION:Epidemin (hus 16\, plan 2) Länssjukhuset
SEQUENCE:0
SUMMARY:Hygienombudsträff  på Länssjukhuset i Kalmar
UID:f41f962b-07b2-489f-a88e-35592aee3c62
END:VEVENT
END:VCALENDAR
