BEGIN:VCALENDAR
PRODID:-//github.com/rianjs/ical.net//NONSGML ical.net 4.0//EN
VERSION:2.0
BEGIN:VEVENT
DESCRIPTION:Disk- och spoldesinfektorer finns och används på de flesta vår
 denheter i Region Kalmar län. Utbildningen syftar till att ge kunskap om 
 rengöring\, desinfektion\, godshantering och instrumentvård så att vården
  kan bedrivas med en god hygienisk standard utifrån hälso- och sjukvårdsl
 agen.
DTEND:20261022T160000
DTSTAMP:20260423T142812Z
DTSTART:20261022T133000
LOCATION:Länssjukhuset Kalmar\, Kompetenscentrum hus 2 plan 9
SEQUENCE:0
SUMMARY:Disk- och spoldesinfektorer\, gods och instrumentvård Kalmar
UID:3c1b9dec-cb8f-4145-807c-f882dc529587
END:VEVENT
END:VCALENDAR
